BEGIN:VCALENDAR
VERSION:2.0
PRODID:-//Kids, Kin ‘N Caregivers, Inc. - ECPv6.15.20//NONSGML v1.0//EN
CALSCALE:GREGORIAN
METHOD:PUBLISH
X-WR-CALNAME:Kids, Kin ‘N Caregivers, Inc.
X-ORIGINAL-URL:https://kids-kin-care.org
X-WR-CALDESC:Events for Kids, Kin ‘N Caregivers, Inc.
REFRESH-INTERVAL;VALUE=DURATION:PT1H
X-Robots-Tag:noindex
X-PUBLISHED-TTL:PT1H
BEGIN:VTIMEZONE
TZID:UTC
BEGIN:STANDARD
TZOFFSETFROM:+0000
TZOFFSETTO:+0000
TZNAME:UTC
DTSTART:20230101T000000
END:STANDARD
END:VTIMEZONE
BEGIN:VEVENT
DTSTART;TZID=UTC:20240220T183000
DTEND;TZID=UTC:20240220T200000
DTSTAMP:20260423T184829
CREATED:20240209T192031Z
LAST-MODIFIED:20240209T192031Z
UID:478-1708453800-1708459200@kids-kin-care.org
SUMMARY:KinCare 101 Education/Empowerment Series (4 of 6 Sessions)
DESCRIPTION:Join us for the GrandFamilies – KinCare 101 Education/Empowerment Series. This is the 3RD webinar in the series. \nTopic: ·   Understanding the school system: homework\, parent/teach conferences\, waivers\, IEPs\, 504 Plans\, and other related issues \n Contact us at 757-434-5162 or kknc@cox.net for the code to participate. \nCertificate award upon completion of the series
URL:https://kids-kin-care.org/event/kincare-101-education-empowerment-series-4-of-6-sessions/
END:VEVENT
END:VCALENDAR