BEGIN:VCALENDAR
VERSION:2.0
PRODID:-//Kids, Kin ‘N Caregivers, Inc. - ECPv6.15.20//NONSGML v1.0//EN
CALSCALE:GREGORIAN
METHOD:PUBLISH
X-WR-CALNAME:Kids, Kin ‘N Caregivers, Inc.
X-ORIGINAL-URL:https://kids-kin-care.org
X-WR-CALDESC:Events for Kids, Kin ‘N Caregivers, Inc.
REFRESH-INTERVAL;VALUE=DURATION:PT1H
X-Robots-Tag:noindex
X-PUBLISHED-TTL:PT1H
BEGIN:VTIMEZONE
TZID:UTC
BEGIN:STANDARD
TZOFFSETFROM:+0000
TZOFFSETTO:+0000
TZNAME:UTC
DTSTART:20230101T000000
END:STANDARD
END:VTIMEZONE
BEGIN:VEVENT
DTSTART;TZID=UTC:20240221T173000
DTEND;TZID=UTC:20240221T190000
DTSTAMP:20260423T184826
CREATED:20240209T192356Z
LAST-MODIFIED:20240209T192356Z
UID:480-1708536600-1708542000@kids-kin-care.org
SUMMARY:Empower U: How to Power UP -Just for Youth Grades 6th - 9th (4th of 5 in Series)
DESCRIPTION:Continuation of Empower U: How to Power UP series for youth grades 6th -9th
URL:https://kids-kin-care.org/event/empower-u-how-to-power-up-just-for-youth-grades-6th-9th-4th-of-5-in-series/
LOCATION:St. Pauls United Methodist Church\, 437 Providence Road\, Chesapeake\, VA\, 23325\, United States
END:VEVENT
END:VCALENDAR