BEGIN:VCALENDAR
VERSION:2.0
PRODID:-//Kids, Kin ‘N Caregivers, Inc. - ECPv6.15.20//NONSGML v1.0//EN
CALSCALE:GREGORIAN
METHOD:PUBLISH
X-ORIGINAL-URL:https://kids-kin-care.org
X-WR-CALDESC:Events for Kids, Kin ‘N Caregivers, Inc.
REFRESH-INTERVAL;VALUE=DURATION:PT1H
X-Robots-Tag:noindex
X-PUBLISHED-TTL:PT1H
BEGIN:VTIMEZONE
TZID:UTC
BEGIN:STANDARD
TZOFFSETFROM:+0000
TZOFFSETTO:+0000
TZNAME:UTC
DTSTART:20230101T000000
END:STANDARD
END:VTIMEZONE
BEGIN:VEVENT
DTSTART;TZID=UTC:20240501T200000
DTEND;TZID=UTC:20240501T210000
DTSTAMP:20260423T143249
CREATED:20240426T220428Z
LAST-MODIFIED:20240426T220428Z
UID:524-1714593600-1714597200@kids-kin-care.org
SUMMARY:Virtual COFFEE AND CONVERSATION Information/Support Group
DESCRIPTION:
URL:https://kids-kin-care.org/event/virtual-coffee-and-conversation-information-support-group/
END:VEVENT
END:VCALENDAR