BEGIN:VCALENDAR
VERSION:2.0
PRODID:-//Kids, Kin ‘N Caregivers, Inc. - ECPv6.15.20//NONSGML v1.0//EN
CALSCALE:GREGORIAN
METHOD:PUBLISH
X-WR-CALNAME:Kids, Kin ‘N Caregivers, Inc.
X-ORIGINAL-URL:https://kids-kin-care.org
X-WR-CALDESC:Events for Kids, Kin ‘N Caregivers, Inc.
REFRESH-INTERVAL;VALUE=DURATION:PT1H
X-Robots-Tag:noindex
X-PUBLISHED-TTL:PT1H
BEGIN:VTIMEZONE
TZID:UTC
BEGIN:STANDARD
TZOFFSETFROM:+0000
TZOFFSETTO:+0000
TZNAME:UTC
DTSTART:20230101T000000
END:STANDARD
END:VTIMEZONE
BEGIN:VEVENT
DTSTART;TZID=UTC:20240514T100000
DTEND;TZID=UTC:20240514T120000
DTSTAMP:20260423T141634
CREATED:20240426T221609Z
LAST-MODIFIED:20240426T221609Z
UID:532-1715680800-1715688000@kids-kin-care.org
SUMMARY:Eagle Eyes Kinship Club – in-person support group for kinship families
DESCRIPTION:
URL:https://kids-kin-care.org/event/eagle-eyes-kinship-club-in-person-support-group-for-kinship-families/
LOCATION:Simonsdale Elementary School\, 4841 Clifford Street\, Portsmouth\, VA\, United States
END:VEVENT
END:VCALENDAR