BEGIN:VCALENDAR
VERSION:2.0
PRODID:-//Kids, Kin ‘N Caregivers, Inc. - ECPv6.15.20//NONSGML v1.0//EN
CALSCALE:GREGORIAN
METHOD:PUBLISH
X-WR-CALNAME:Kids, Kin ‘N Caregivers, Inc.
X-ORIGINAL-URL:https://kids-kin-care.org
X-WR-CALDESC:Events for Kids, Kin ‘N Caregivers, Inc.
REFRESH-INTERVAL;VALUE=DURATION:PT1H
X-Robots-Tag:noindex
X-PUBLISHED-TTL:PT1H
BEGIN:VTIMEZONE
TZID:UTC
BEGIN:STANDARD
TZOFFSETFROM:+0000
TZOFFSETTO:+0000
TZNAME:UTC
DTSTART:20230101T000000
END:STANDARD
END:VTIMEZONE
BEGIN:VEVENT
DTSTART;TZID=UTC:20240708T100000
DTEND;TZID=UTC:20240708T120000
DTSTAMP:20260423T111707
CREATED:20240701T224126Z
LAST-MODIFIED:20240701T224126Z
UID:559-1720432800-1720440000@kids-kin-care.org
SUMMARY:Support Group for Kin Caregivers
DESCRIPTION:in-person support group – Meet up for breakfast at IHOP\, 1316 Fordham Drive\, Virginia\nBeach\, VA 23464
URL:https://kids-kin-care.org/event/support-group-for-kin-caregivers-2/
LOCATION:IHOP\, 1316 Fordham Drive\, Virginia Beach\, VA 23464\, 1316 Fordham Drive\, Virginia Beach\, VA\, 23464\, United States
END:VEVENT
END:VCALENDAR