BEGIN:VCALENDAR
VERSION:2.0
PRODID:-//Kids, Kin ‘N Caregivers, Inc. - ECPv6.15.20//NONSGML v1.0//EN
CALSCALE:GREGORIAN
METHOD:PUBLISH
X-WR-CALNAME:Kids, Kin ‘N Caregivers, Inc.
X-ORIGINAL-URL:https://kids-kin-care.org
X-WR-CALDESC:Events for Kids, Kin ‘N Caregivers, Inc.
REFRESH-INTERVAL;VALUE=DURATION:PT1H
X-Robots-Tag:noindex
X-PUBLISHED-TTL:PT1H
BEGIN:VTIMEZONE
TZID:UTC
BEGIN:STANDARD
TZOFFSETFROM:+0000
TZOFFSETTO:+0000
TZNAME:UTC
DTSTART:20230101T000000
END:STANDARD
END:VTIMEZONE
BEGIN:VEVENT
DTSTART;TZID=UTC:20240716T100000
DTEND;TZID=UTC:20240716T120000
DTSTAMP:20260423T112426
CREATED:20240701T224537Z
LAST-MODIFIED:20240701T224537Z
UID:565-1721124000-1721131200@kids-kin-care.org
SUMMARY:RESOURCE TUEDAYS
DESCRIPTION:RESOURCE TUEDAYS – Stop by the GrandFamilies Resource Center for our Community Resource Drop-\nIn Session. Get connected with the information and help you need
URL:https://kids-kin-care.org/event/resource-tuedays-3/
LOCATION:Grandfamilies Resource Center\, 6300 E Virginia Beach Blvd\, Norfolk\, VA\, United States
END:VEVENT
END:VCALENDAR