BEGIN:VCALENDAR
VERSION:2.0
PRODID:-//Kids, Kin ‘N Caregivers, Inc. - ECPv6.15.20//NONSGML v1.0//EN
CALSCALE:GREGORIAN
METHOD:PUBLISH
X-ORIGINAL-URL:https://kids-kin-care.org
X-WR-CALDESC:Events for Kids, Kin ‘N Caregivers, Inc.
REFRESH-INTERVAL;VALUE=DURATION:PT1H
X-Robots-Tag:noindex
X-PUBLISHED-TTL:PT1H
BEGIN:VTIMEZONE
TZID:UTC
BEGIN:STANDARD
TZOFFSETFROM:+0000
TZOFFSETTO:+0000
TZNAME:UTC
DTSTART:20230101T000000
END:STANDARD
END:VTIMEZONE
BEGIN:VEVENT
DTSTART;TZID=UTC:20240806T183000
DTEND;TZID=UTC:20240806T200000
DTSTAMP:20260422T232541
CREATED:20240701T225413Z
LAST-MODIFIED:20240701T225413Z
UID:575-1722969000-1722974400@kids-kin-care.org
SUMMARY:Special Presentation on Bullying presented by PEATC
DESCRIPTION:Virtual presentation for both adults and youth (fifth grade and older)\n• RSVP – 757-434-5162 or kknc@cox.net
URL:https://kids-kin-care.org/event/special-presentation-on-bullying-presented-by-peatc/
END:VEVENT
END:VCALENDAR