BEGIN:VCALENDAR
VERSION:2.0
PRODID:-//Kids, Kin ‘N Caregivers, Inc. - ECPv6.15.20//NONSGML v1.0//EN
CALSCALE:GREGORIAN
METHOD:PUBLISH
X-WR-CALNAME:Kids, Kin ‘N Caregivers, Inc.
X-ORIGINAL-URL:https://kids-kin-care.org
X-WR-CALDESC:Events for Kids, Kin ‘N Caregivers, Inc.
REFRESH-INTERVAL;VALUE=DURATION:PT1H
X-Robots-Tag:noindex
X-PUBLISHED-TTL:PT1H
BEGIN:VTIMEZONE
TZID:UTC
BEGIN:STANDARD
TZOFFSETFROM:+0000
TZOFFSETTO:+0000
TZNAME:UTC
DTSTART:20230101T000000
END:STANDARD
END:VTIMEZONE
BEGIN:VEVENT
DTSTART;TZID=UTC:20240814T200000
DTEND;TZID=UTC:20240814T210000
DTSTAMP:20260422T113814
CREATED:20240701T225926Z
LAST-MODIFIED:20240701T225926Z
UID:582-1723665600-1723669200@kids-kin-care.org
SUMMARY:Support Group for Kin Caregivers
DESCRIPTION:Virtual COFFEE AND CONVERSATION Information/Support Group
URL:https://kids-kin-care.org/event/support-group-for-kin-caregivers-8/
END:VEVENT
END:VCALENDAR