BEGIN:VCALENDAR
VERSION:2.0
PRODID:-//Kids, Kin ‘N Caregivers, Inc. - ECPv6.15.20//NONSGML v1.0//EN
CALSCALE:GREGORIAN
METHOD:PUBLISH
X-ORIGINAL-URL:https://kids-kin-care.org
X-WR-CALDESC:Events for Kids, Kin ‘N Caregivers, Inc.
REFRESH-INTERVAL;VALUE=DURATION:PT1H
X-Robots-Tag:noindex
X-PUBLISHED-TTL:PT1H
BEGIN:VTIMEZONE
TZID:UTC
BEGIN:STANDARD
TZOFFSETFROM:+0000
TZOFFSETTO:+0000
TZNAME:UTC
DTSTART:20230101T000000
END:STANDARD
END:VTIMEZONE
BEGIN:VEVENT
DTSTART;TZID=UTC:20240925T200000
DTEND;TZID=UTC:20240925T210000
DTSTAMP:20260420T090103
CREATED:20240912T194702Z
LAST-MODIFIED:20240912T194702Z
UID:596-1727294400-1727298000@kids-kin-care.org
SUMMARY:Support Group for Kin Caregivers
DESCRIPTION:• Virtual COFFEE AND CONVERSATION Information/Support Group\n• Topic: Lets talk about potential resources
URL:https://kids-kin-care.org/event/support-group-for-kin-caregivers-9/
END:VEVENT
END:VCALENDAR