BEGIN:VCALENDAR
VERSION:2.0
PRODID:-//Kids, Kin ‘N Caregivers, Inc. - ECPv6.15.20//NONSGML v1.0//EN
CALSCALE:GREGORIAN
METHOD:PUBLISH
X-WR-CALNAME:Kids, Kin ‘N Caregivers, Inc.
X-ORIGINAL-URL:https://kids-kin-care.org
X-WR-CALDESC:Events for Kids, Kin ‘N Caregivers, Inc.
REFRESH-INTERVAL;VALUE=DURATION:PT1H
X-Robots-Tag:noindex
X-PUBLISHED-TTL:PT1H
BEGIN:VTIMEZONE
TZID:UTC
BEGIN:STANDARD
TZOFFSETFROM:+0000
TZOFFSETTO:+0000
TZNAME:UTC
DTSTART:20230101T000000
END:STANDARD
END:VTIMEZONE
BEGIN:VEVENT
DTSTART;TZID=UTC:20240124T173000
DTEND;TZID=UTC:20240124T190000
DTSTAMP:20260423T201818
CREATED:20240131T044913Z
LAST-MODIFIED:20240131T045200Z
UID:464-1706117400-1706122800@kids-kin-care.org
SUMMARY:Empower U How To Power Up
DESCRIPTION:Empower U: How To Power-Up\nYour Youth 6 – 9 year olds\n5-week series on: communication\, connection\, collaboration\, capability\, and confidence\nWednesdays January 24 – February 21\, 2024\n5:30 – 7PM
URL:https://kids-kin-care.org/event/empower-u-how-to-power-up/
LOCATION:St. Pauls United Methodist Church\, 437 Providence Road\, Chesapeake\, VA\, 23325\, United States
ATTACH;FMTTYPE=image/png:https://kids-kin-care.org/wp-content/uploads/2024/01/1706675958264-357bfaea-1129-4c6b-884d-5e2164853f79_1.png
END:VEVENT
END:VCALENDAR