BEGIN:VCALENDAR
VERSION:2.0
PRODID:-//Kids, Kin ‘N Caregivers, Inc. - ECPv6.15.20//NONSGML v1.0//EN
CALSCALE:GREGORIAN
METHOD:PUBLISH
X-WR-CALNAME:Kids, Kin ‘N Caregivers, Inc.
X-ORIGINAL-URL:https://kids-kin-care.org
X-WR-CALDESC:Events for Kids, Kin ‘N Caregivers, Inc.
REFRESH-INTERVAL;VALUE=DURATION:PT1H
X-Robots-Tag:noindex
X-PUBLISHED-TTL:PT1H
BEGIN:VTIMEZONE
TZID:UTC
BEGIN:STANDARD
TZOFFSETFROM:+0000
TZOFFSETTO:+0000
TZNAME:UTC
DTSTART:20230101T000000
END:STANDARD
END:VTIMEZONE
BEGIN:VEVENT
DTSTART;TZID=UTC:20240305T183000
DTEND;TZID=UTC:20240305T200000
DTSTAMP:20260423T155716
CREATED:20240209T193124Z
LAST-MODIFIED:20240209T193124Z
UID:486-1709663400-1709668800@kids-kin-care.org
SUMMARY:KinCare 101 Education/Empowerment Series (6 of 6 Sessions)
DESCRIPTION:Join us for the GrandFamilies – KinCare 101 Education/Empowerment Series. This is the 6th and final webinar in the series. \nTopic: Impact of mental health issues\, addiction and substance abuse on the family \nContact us at 757-434-5162 or kknc@cox.net for the code to participate. \nCertificate award upon completion of the series
URL:https://kids-kin-care.org/event/kincare-101-education-empowerment-series-6-of-6-sessions/
END:VEVENT
BEGIN:VEVENT
DTSTART;TZID=UTC:20240306T200000
DTEND;TZID=UTC:20240306T213000
DTSTAMP:20260423T155716
CREATED:20240209T193338Z
LAST-MODIFIED:20240209T193338Z
UID:488-1709755200-1709760600@kids-kin-care.org
SUMMARY:Coffee and Conversation Support Group (virtual)
DESCRIPTION:Join us for our weekly virtual support group for kinship families and grandfamilies. Contact us at 757-434-5162 or kknc@cox.net for code to join
URL:https://kids-kin-care.org/event/coffee-and-conversation-support-group-virtual/
END:VEVENT
BEGIN:VEVENT
DTSTART;TZID=UTC:20240311T100000
DTEND;TZID=UTC:20240311T120000
DTSTAMP:20260423T155716
CREATED:20240209T193626Z
LAST-MODIFIED:20240209T193626Z
UID:490-1710151200-1710158400@kids-kin-care.org
SUMMARY:Team Kin - In Person Support Group for Kinship Caregivers
DESCRIPTION:Join us for an in-person meeting at our office\, 6300 E. Virginia Beach Blvd.\, Norfolk\, Virginia (in the Endependence Center Building). Share with others as we discuss the joys and challenges of parenting a relative’s child\, find out about new resources to add to your parenting toolbox\, and learn new self-care strategies. Contact us at 757-434-5162 for more information.
URL:https://kids-kin-care.org/event/team-kin-in-person-support-group-for-kinship-caregivers-2/
LOCATION:Kids Kin ‘n Caregivers\, 6300 East Virginia Beach Boulevard\, Norfolk\, VA\, 23502\, United States
END:VEVENT
BEGIN:VEVENT
DTSTART;TZID=UTC:20240313T200000
DTEND;TZID=UTC:20240313T213000
DTSTAMP:20260423T155716
CREATED:20240209T193841Z
LAST-MODIFIED:20240209T193841Z
UID:492-1710360000-1710365400@kids-kin-care.org
SUMMARY:Coffee and Conversation Support Group (virtual)
DESCRIPTION:Join us for our weekly virtual support group for kinship families and grandfamilies. Contact us at 757-434-5162 or kknc@cox.net for code to join
URL:https://kids-kin-care.org/event/coffee-and-conversation-support-group-virtual-2/
END:VEVENT
BEGIN:VEVENT
DTSTART;TZID=UTC:20240320T200000
DTEND;TZID=UTC:20240320T213000
DTSTAMP:20260423T155716
CREATED:20240209T194033Z
LAST-MODIFIED:20240209T194033Z
UID:494-1710964800-1710970200@kids-kin-care.org
SUMMARY:Coffee and Conversation Support Group (virtual)
DESCRIPTION:Join us for our weekly virtual support group for kinship families and grandfamilies. Contact us at 757-434-5162 or kknc@cox.net for code to join
URL:https://kids-kin-care.org/event/coffee-and-conversation-support-group-virtual-3/
END:VEVENT
BEGIN:VEVENT
DTSTART;TZID=UTC:20240327T200000
DTEND;TZID=UTC:20240327T213000
DTSTAMP:20260423T155716
CREATED:20240209T194219Z
LAST-MODIFIED:20240209T194219Z
UID:496-1711569600-1711575000@kids-kin-care.org
SUMMARY:Coffee and Conversation Support Group (virtual)
DESCRIPTION:Join us for our weekly virtual support group for kinship families and grandfamilies. Contact us at 757-434-5162 or kknc@cox.net for code to join
URL:https://kids-kin-care.org/event/coffee-and-conversation-support-group-virtual-4/
END:VEVENT
END:VCALENDAR