BEGIN:VCALENDAR
VERSION:2.0
PRODID:-//Kids, Kin ‘N Caregivers, Inc. - ECPv6.15.20//NONSGML v1.0//EN
CALSCALE:GREGORIAN
METHOD:PUBLISH
X-ORIGINAL-URL:https://kids-kin-care.org
X-WR-CALDESC:Events for Kids, Kin ‘N Caregivers, Inc.
REFRESH-INTERVAL;VALUE=DURATION:PT1H
X-Robots-Tag:noindex
X-PUBLISHED-TTL:PT1H
BEGIN:VTIMEZONE
TZID:UTC
BEGIN:STANDARD
TZOFFSETFROM:+0000
TZOFFSETTO:+0000
TZNAME:UTC
DTSTART:20230101T000000
END:STANDARD
END:VTIMEZONE
BEGIN:VEVENT
DTSTART;TZID=UTC:20240501T200000
DTEND;TZID=UTC:20240501T210000
DTSTAMP:20260423T123807
CREATED:20240426T220428Z
LAST-MODIFIED:20240426T220428Z
UID:524-1714593600-1714597200@kids-kin-care.org
SUMMARY:Virtual COFFEE AND CONVERSATION Information/Support Group
DESCRIPTION:
URL:https://kids-kin-care.org/event/virtual-coffee-and-conversation-information-support-group/
END:VEVENT
BEGIN:VEVENT
DTSTART;TZID=UTC:20240507T090000
DTEND;TZID=UTC:20240507T120000
DTSTAMP:20260423T123807
CREATED:20240131T041152Z
LAST-MODIFIED:20240131T041905Z
UID:451-1715072400-1715083200@kids-kin-care.org
SUMMARY:3rd Annual Breakfast Benefit
DESCRIPTION:Kids\, Kin ‘n Caregivers\, Inc\n3rd Annual Breakfast Benefit Celebrating and Supporting GrandFamilies\n“Families Change Tomorrows”\nTuesday\, May 7th – 9 AM\nDouble Tree- Hilton Airport Hotel – Norfolk\, VA
URL:https://kids-kin-care.org/event/3rd-annual-breakfast-benefit/
LOCATION:Double Tree- Hilton Airport Hotel\, 1500 N Military Hwy\, Norfolk\, VA\, 23502\, United States
ATTACH;FMTTYPE=image/png:https://kids-kin-care.org/wp-content/uploads/2024/01/1706674610569-a240ec74-469f-43d8-a0fc-415656cf137d_1.png
END:VEVENT
BEGIN:VEVENT
DTSTART;TZID=UTC:20240508T200000
DTEND;TZID=UTC:20240508T210000
DTSTAMP:20260423T123807
CREATED:20240426T220630Z
LAST-MODIFIED:20240426T220630Z
UID:526-1715198400-1715202000@kids-kin-care.org
SUMMARY:Virtual COFFEE AND CONVERSATION Information/Support Group
DESCRIPTION:
URL:https://kids-kin-care.org/event/virtual-coffee-and-conversation-information-support-group-2/
END:VEVENT
BEGIN:VEVENT
DTSTART;TZID=UTC:20240513T100000
DTEND;TZID=UTC:20240513T120000
DTSTAMP:20260423T123807
CREATED:20240426T221122Z
LAST-MODIFIED:20240426T221122Z
UID:528-1715594400-1715601600@kids-kin-care.org
SUMMARY:Team Kin – in-person support group for kinship families
DESCRIPTION:
URL:https://kids-kin-care.org/event/team-kin-in-person-support-group-for-kinship-families/
LOCATION:Grandfamilies Resource Center\, 6300 E Virginia Beach Blvd\, Norfolk\, VA\, United States
END:VEVENT
BEGIN:VEVENT
DTSTART;TZID=UTC:20240514T100000
DTEND;TZID=UTC:20240514T120000
DTSTAMP:20260423T123807
CREATED:20240426T221609Z
LAST-MODIFIED:20240426T221609Z
UID:532-1715680800-1715688000@kids-kin-care.org
SUMMARY:Eagle Eyes Kinship Club – in-person support group for kinship families
DESCRIPTION:
URL:https://kids-kin-care.org/event/eagle-eyes-kinship-club-in-person-support-group-for-kinship-families/
LOCATION:Simonsdale Elementary School\, 4841 Clifford Street\, Portsmouth\, VA\, United States
END:VEVENT
BEGIN:VEVENT
DTSTART;TZID=UTC:20240515T200000
DTEND;TZID=UTC:20240515T210000
DTSTAMP:20260423T123807
CREATED:20240426T221721Z
LAST-MODIFIED:20240426T221721Z
UID:536-1715803200-1715806800@kids-kin-care.org
SUMMARY:Virtual COFFEE AND CONVERSATION Information/Support Group
DESCRIPTION:
URL:https://kids-kin-care.org/event/virtual-coffee-and-conversation-information-support-group-3/
END:VEVENT
BEGIN:VEVENT
DTSTART;TZID=UTC:20240521T100000
DTEND;TZID=UTC:20240521T120000
DTSTAMP:20260423T123807
CREATED:20240426T221918Z
LAST-MODIFIED:20240426T221918Z
UID:539-1716285600-1716292800@kids-kin-care.org
SUMMARY:RESOURCE TUEDAYS
DESCRIPTION:Stop by the GrandFamilies Resource Center for our Community Resource Drop-\nIn Session. Get connected with the information and help you need.
URL:https://kids-kin-care.org/event/resource-tuedays/
LOCATION:Grandfamilies Resource Center\, 6300 E Virginia Beach Blvd\, Norfolk\, VA\, United States
END:VEVENT
BEGIN:VEVENT
DTSTART;TZID=UTC:20240522T200000
DTEND;TZID=UTC:20240522T210000
DTSTAMP:20260423T123807
CREATED:20240426T222054Z
LAST-MODIFIED:20240426T222054Z
UID:542-1716408000-1716411600@kids-kin-care.org
SUMMARY:Virtual COFFEE AND CONVERSATION Information/Support Group
DESCRIPTION:
URL:https://kids-kin-care.org/event/virtual-coffee-and-conversation-information-support-group-4/
END:VEVENT
BEGIN:VEVENT
DTSTART;TZID=UTC:20240528T100000
DTEND;TZID=UTC:20240528T120000
DTSTAMP:20260423T123807
CREATED:20240426T222254Z
LAST-MODIFIED:20240426T222254Z
UID:545-1716890400-1716897600@kids-kin-care.org
SUMMARY:RESOURCE TUEDAYS
DESCRIPTION:Stop by the GrandFamilies Resource Center for our Community Resource Drop-\nIn Session. Get connected with the information and help you need.
URL:https://kids-kin-care.org/event/resource-tuedays-2/
LOCATION:Grandfamilies Resource Center\, 6300 E Virginia Beach Blvd\, Norfolk\, VA\, United States
END:VEVENT
BEGIN:VEVENT
DTSTART;TZID=UTC:20240529T200000
DTEND;TZID=UTC:20240529T210000
DTSTAMP:20260423T123807
CREATED:20240426T222412Z
LAST-MODIFIED:20240426T222412Z
UID:548-1717012800-1717016400@kids-kin-care.org
SUMMARY:Virtual COFFEE AND CONVERSATION Information/Support Group
DESCRIPTION:
URL:https://kids-kin-care.org/event/virtual-coffee-and-conversation-information-support-group-5/
END:VEVENT
END:VCALENDAR